BEGIN:VCALENDAR
VERSION:2.0
PRODID:-//eventon.com NONSGML v1.0//EN
BEGIN:VEVENT
UID:69e5e1f7c56f0
DTSTAMP:20260420T102111
DTSTART:20241207T080000Z
DTEND:20241207T154500Z
TZID:Europe/Berlin
LOCATION:Waiblingen\,  Bahnhof 1 (Bahnhofsgebäude) Bahnhof 1 (Bahnhofsgebäude)
SUMMARY:Erste Hilfe Kurs
DESCRIPTION: Erste Hilfe Grundlehrgang 9 kurzweilige Unterrichtseinheiten á 45 Minuten Für alle Führerscheinklassen Ausbildung für betriebliche Ersthelfende Buchung ist übertragbar auf andere Personen Bei sam kannst du direkt im Kurs auch gleich\,  den für die Führerscheinanmeldung erforderlichen Sehtest und die biometrischen Passbilder machen lassen! Wähle das was du brauchst aus und[..]\nhttps://www.sam-erstehilfe.de/kurse/erste-hilfe-kurs-1027/
URL:https://www.sam-erstehilfe.de/kurse/erste-hilfe-kurs-1027/
END:VEVENT
END:VCALENDAR