BEGIN:VCALENDAR
VERSION:2.0
PRODID:-//eventon.com NONSGML v1.0//EN
BEGIN:VEVENT
UID:69e7ad410d299
DTSTAMP:20260421T190049
DTSTART:20261202T080000Z
DTEND:20261202T154500Z
TZID:Europe/Berlin
LOCATION:Stuttgart\,  Theodor-Heuss-Straße 24 Theodor-Heuss-Straße 24
SUMMARY:Auffrischungstraining für Betriebe
DESCRIPTION: Auffrischungstraining Betrieb 9 kurzweilige Unterrichtseinheiten á 45 Minuten Training für betriebliche Ersthelfende Buchung ist übertragbar auf andere Personen Kartenbeschreibung Auffrischungstraining Betrieb für Selbstzahler Um Ersthelfer zu bleiben ist alle 2 Jahre ein Erste Hilfe Auffrischungstraining über 9 Unterrichtseinheiten vorgeschrieben. Auffrischungstraining Betrieb mit Abrechnungsbogen* Damit die Kursgebühr mit deiner Berufsgenossenschaft/Unfallkasse abgerechnet[..]\nhttps://www.sam-erstehilfe.de/kurse/auffrischungstraining-fuer-betriebe-15/
URL:https://www.sam-erstehilfe.de/kurse/auffrischungstraining-fuer-betriebe-15/
END:VEVENT
END:VCALENDAR