BEGIN:VCALENDAR
VERSION:2.0
PRODID:-//eventon.com NONSGML v1.0//EN
BEGIN:VEVENT
UID:69e5e22774923
DTSTAMP:20260420T102159
DTSTART:20260704T070000Z
DTEND:20260704T144500Z
TZID:Europe/Berlin
LOCATION:Backnang\,  Sulzbacher Str. 10 Sulzbacher Str. 10
SUMMARY:Erste Hilfe Kurs
DESCRIPTION: Erste Hilfe Grundlehrgang 9 kurzweilige Unterrichtseinheiten á 45 Minuten Für alle Führerscheinklassen Ausbildung für betriebliche Ersthelfende Buchung ist übertragbar auf andere Personen Bei sam kannst du direkt im Kurs auch gleich\,  den für die Führerscheinanmeldung erforderlichen Sehtest und die biometrischen Passbilder machen lassen! Wähle das was du brauchst aus und[..]\nhttps://www.sam-erstehilfe.de/kurse/erste-hilfe-kurs-1674/
URL:https://www.sam-erstehilfe.de/kurse/erste-hilfe-kurs-1674/
END:VEVENT
END:VCALENDAR