BEGIN:VCALENDAR
VERSION:2.0
PRODID:-//eventon.com NONSGML v1.0//EN
BEGIN:VEVENT
UID:69e797c6348cc
DTSTAMP:20260421T172910
DTSTART:20260613T070000Z
DTEND:20260613T110000Z
TZID:Europe/Berlin
LOCATION:Stuttgart\,  Obere Waiblinger Str. 109 Obere Waiblinger Str. 109
SUMMARY:Erste Hilfe am Kind / Säugling
DESCRIPTION: Fortbildung für Eltern und Interessierte 4 Stunden Zeiteinsatz Übertragbar auf andere Personen Du kannst Kinder nicht rund um die Uhr beschützen. Aber du kannst mögliche Gefahrenquellen ausschalten. Und du kannst für den Ernstfall trainieren. Bitte mitbringen: Getränke und Essen Bequeme Kleidung\nhttps://www.sam-erstehilfe.de/kurse/erste-hilfe-am-kind-saeugling-35/
URL:https://www.sam-erstehilfe.de/kurse/erste-hilfe-am-kind-saeugling-35/
END:VEVENT
END:VCALENDAR