BEGIN:VCALENDAR
VERSION:2.0
PRODID:-//eventon.com NONSGML v1.0//EN
BEGIN:VEVENT
UID:69e5e25b9cf8c
DTSTAMP:20260420T102251
DTSTART:20251111T080000Z
DTEND:20251111T154500Z
TZID:Europe/Berlin
LOCATION:Stuttgart\,  Theodor-Heuss-Straße 24 Theodor-Heuss-Straße 24
SUMMARY:Auffrischungstraining für Betriebe
DESCRIPTION: Auffrischungstraining Betrieb 9 kurzweilige Unterrichtseinheiten á 45 Minuten Training für betriebliche Ersthelfende Buchung ist übertragbar auf andere Personen Kartenbeschreibung Auffrischungstraining Betrieb für Selbstzahler Um Ersthelfer zu bleiben ist alle 2 Jahre ein Erste Hilfe Auffrischungstraining über 9 Unterrichtseinheiten vorgeschrieben. Auffrischungstraining Betrieb mit Abrechnungsbogen* Damit die Kursgebühr mit deiner Berufsgenossenschaft/Unfallkasse abgerechnet[..]\nhttps://www.sam-erstehilfe.de/kurse/auffrischungstraining-fuer-betriebe-34/
URL:https://www.sam-erstehilfe.de/kurse/auffrischungstraining-fuer-betriebe-34/
END:VEVENT
END:VCALENDAR